BEGIN:VCALENDAR
VERSION:2.0
PRODID:-//www.frederictonconventions.ca//Silverstripe CMS Recipe: 6.1.0// E
 N
CALSCALE:GREGORIAN
BEGIN:VEVENT
UID:www-frederictonconventions-ca-event-267
DTSTAMP:20260112T185440Z
SUMMARY:2026 Health and Safety Conference 
DTSTART:VALUE=DATE:20261007
ORGANIZER:CN=Fredericton Convention Centre
LOCATION:Fredericton Convention Centre\n670 Queen Street\nFredericton NB E3
 B 1C2 Canada
URL;VALUE=URI:https://www.frederictonconventions.ca/en/events/2026-health-a
 nd-safety-conference/
DTEND:VALUE=DATE:20261009
END:VEVENT
END:VCALENDAR
