BEGIN:VCALENDAR
VERSION:2.0
PRODID:-//www.frederictonconventions.ca//Silverstripe CMS Recipe: 6.1.0// E
 N
CALSCALE:GREGORIAN
BEGIN:VEVENT
UID:www-frederictonconventions-ca-event-238
DTSTAMP:20260415T173331Z
SUMMARY:Animaritime 2026
DTSTART;TZID=America/Halifax:20260703T090000
ORGANIZER:CN=Fredericton Convention Centre
LOCATION:Fredericton Convention Centre\n670 Queen Street\nFredericton NB E3
 B 1C2 Canada
URL;VALUE=URI:https://www.frederictonconventions.ca/en/events/animaritime-2
 026/
DTEND;TZID=America/Halifax:20260703T170000
RRULE:FREQ=DAILY;COUNT=3
CATEGORIES:Special Event
DESCRIPTION:Thousands of Animaritime fans come together in celebration of t
 heir passion for animation\, manga\, and various types of gaming.  
END:VEVENT
END:VCALENDAR
