BEGIN:VCALENDAR
VERSION:2.0
PRODID:-//www.frederictonconventions.ca//Silverstripe CMS Recipe: 6.1.0// E
 N
CALSCALE:GREGORIAN
BEGIN:VEVENT
UID:www-frederictonconventions-ca-event-262
DTSTAMP:20260414T141431Z
SUMMARY:Bridging Worlds Through Education : NBTA Council Day 2026 
DTSTART:VALUE=DATE:20260501
ORGANIZER:CN=Fredericton Convention Centre
LOCATION:Fredericton Convention Centre\n670 Queen Street\nFredericton NB E3
 B 1C2 Canada
URL;VALUE=URI:https://www.frederictonconventions.ca/en/events/bridging-worl
 ds-through-education-nbta-council-day-2026/
DESCRIPTION:Bridging Worlds Through Education will be comprised of in-perso
 n keynote speaking sessions.
END:VEVENT
END:VCALENDAR
