BEGIN:VCALENDAR
VERSION:2.0
PRODID:-//www.frederictonconventions.ca//Silverstripe CMS Recipe: 6.1.0// E
 N
CALSCALE:GREGORIAN
BEGIN:VEVENT
UID:www-frederictonconventions-ca-event-278
DTSTAMP:20260210T135638Z
SUMMARY:Canadian Employee Relocation Council
DTSTART:VALUE=DATE:20260913
ORGANIZER:CN=Fredericton Convention Centre
LOCATION:Fredericton Convention Centre\n670 Queen Street\nFredericton NB E3
 B 1C2 Canada
URL;VALUE=URI:https://www.frederictonconventions.ca/en/events/canadian-empl
 oyee-relocation-council/
DTEND:VALUE=DATE:20260915
CATEGORIES:Conference
DESCRIPTION:Mark your calendars! The 44th Annual Conference will take place
  September 13–15\, 2026.
END:VEVENT
END:VCALENDAR
