BEGIN:VCALENDAR
VERSION:2.0
PRODID:-//www.frederictonconventions.ca//Silverstripe CMS Recipe: 6.1.0// E
 N
CALSCALE:GREGORIAN
BEGIN:VEVENT
UID:www-frederictonconventions-ca-event-287
DTSTAMP:20260423T173056Z
SUMMARY:CHF Canada 2026 Annual Meeting 
DTSTART:VALUE=DATE:20260611
ORGANIZER:CN=Fredericton Convention Centre
LOCATION:Fredericton Convention Centre\n670 Queen Street\nFredericton NB E3
 B 1C2 Canada
URL;VALUE=URI:https://www.frederictonconventions.ca/en/events/chf-canada/
DTEND:VALUE=DATE:20260613
CATEGORIES:Convention
DESCRIPTION:The goal of the Co-operative Housing Federation of Canada Annua
 l Meetings are to bring co-op members together in a networking environment
  where they have the opportunity to learn and inspire growth within the mo
 vement of co-op housing in Canada.\n\n
END:VEVENT
END:VCALENDAR
