BEGIN:VCALENDAR
VERSION:2.0
PRODID:-//www.frederictonconventions.ca//Silverstripe CMS Recipe: 6.1.0// E
 N
CALSCALE:GREGORIAN
BEGIN:VEVENT
UID:www-frederictonconventions-ca-event-255
DTSTAMP:20260414T172732Z
SUMMARY:Fredericton Rock N' Gem Show
DTSTART:VALUE=DATE:20260508
ORGANIZER:CN=Fredericton Convention Centre
LOCATION:Fredericton Convention Centre\n670 Queen Street\nFredericton NB E3
 B 1C2 Canada
URL;VALUE=URI:https://www.frederictonconventions.ca/en/events/fredericton-r
 ock-n-gem-show/
DTEND:VALUE=DATE:20260510
CATEGORIES:Consumer Show 
DESCRIPTION:Large scale Rock N' Gem Show\, hosted by Silver Cove's Event Di
 vision.
END:VEVENT
END:VCALENDAR
