BEGIN:VCALENDAR
VERSION:2.0
PRODID:-//www.frederictonconventions.ca//Silverstripe CMS Recipe: 6.1.0// E
 N
CALSCALE:GREGORIAN
BEGIN:VEVENT
UID:www-frederictonconventions-ca-event-242
DTSTAMP:20260423T170323Z
SUMMARY:International Conference on Entrepreneurship\, Health and Climate
DTSTART;TZID=America/Halifax:20260608T120000
ORGANIZER:CN=Fredericton Convention Centre
LOCATION:Fredericton Convention Centre\n670 Queen Street\nFredericton NB E3
 B 1C2 Canada
URL;VALUE=URI:https://www.frederictonconventions.ca/en/events/international
 -conference-on-entrepreneurship-health-and-climate/
DTEND;TZID=America/Halifax:20260608T170000
RRULE:FREQ=DAILY;COUNT=3
CATEGORIES:Conference
DESCRIPTION:The International Conference on Entrepreneurship\, Health\, and
  Climate\, is a groundbreaking convening of leaders\, innovators\, researc
 hers\, policymakers\, and civil society voices from around the world.
END:VEVENT
END:VCALENDAR
