BEGIN:VCALENDAR
VERSION:2.0
PRODID:-//www.frederictonconventions.ca//Silverstripe CMS Recipe: 6.1.0// E
 N
CALSCALE:GREGORIAN
BEGIN:VEVENT
UID:www-frederictonconventions-ca-event-250
DTSTAMP:20260423T165341Z
SUMMARY:NB Dental Society 
DTSTART;TZID=America/Halifax:20260528T080000
ORGANIZER:CN=Fredericton Convention Centre
LOCATION:Fredericton Convention Centre\n670 Queen Street\nFredericton NB E3
 B 1C2 Canada
URL;VALUE=URI:https://www.frederictonconventions.ca/en/events/new-calendar-
 event-25/
DTEND;TZID=America/Halifax:20260528T180000
RRULE:FREQ=DAILY;COUNT=3
CATEGORIES:Conference
DESCRIPTION:New Brunswick Dental Society and Annual Conference & AGM 2026 w
 ill be comprised of continued education sessions\, a tradeshow\, and a var
 iety of social events.  
END:VEVENT
END:VCALENDAR
