BEGIN:VCALENDAR
VERSION:2.0
PRODID:-//www.frederictonconventions.ca//Silverstripe CMS Recipe: 6.1.0// E
 N
CALSCALE:GREGORIAN
BEGIN:VEVENT
UID:www-frederictonconventions-ca-event-248
DTSTAMP:20260323T190156Z
SUMMARY:On The Floor Dance Convention
DTSTART:VALUE=DATE:20261025
ORGANIZER:CN=Fredericton Convention Centre
LOCATION:Fredericton Convention Centre\n670 Queen Street\nFredericton NB E3
 B 1C2 Canada
URL;VALUE=URI:https://www.frederictonconventions.ca/en/events/on-the-floor-
 2026-fredericton/
CATEGORIES:Special Event
DESCRIPTION:Primary Contact: Kerri-Lynn Gallinger \nEmail: kerri@onthefloor
 .ca\nPhone Number: 416.477.5490\nWebsite: www.onthefloor.ca
END:VEVENT
END:VCALENDAR
