BEGIN:VCALENDAR
VERSION:2.0
PRODID:-//www.frederictonconventions.ca//Silverstripe CMS Recipe: 6.1.0// E
 N
CALSCALE:GREGORIAN
BEGIN:VEVENT
UID:www-frederictonconventions-ca-event-296
DTSTAMP:20260410T180552Z
SUMMARY:The Power of Change Gala 
DTSTART:VALUE=DATE:20261105
ORGANIZER:CN=Fredericton Convention Centre
LOCATION:Fredericton Convention Centre\n670 Queen Street\nFredericton NB E3
 B 1C2 Canada
URL;VALUE=URI:https://www.frederictonconventions.ca/en/events/the-power-of-
 change-gala-gala-le-pouvoir-du-changement/
CATEGORIES:Gala Dinner
DESCRIPTION:The Power of Change Gala\, hosted by Portage\, will be open to 
 the public by ticket purchases. 
END:VEVENT
END:VCALENDAR
