BEGIN:VCALENDAR
VERSION:2.0
PRODID:-//www.frederictonconventions.ca//Silverstripe CMS Recipe: 6.1.0// E
 N
CALSCALE:GREGORIAN
BEGIN:VEVENT
UID:www-frederictonconventions-ca-event-279
DTSTAMP:20260210T135606Z
SUMMARY:TIAC Tourism Congress 2026 
DTSTART:VALUE=DATE:20261117
ORGANIZER:CN=Fredericton Convention Centre
LOCATION:Fredericton Convention Centre\n670 Queen Street\nFredericton NB E3
 B 1C2 Canada
URL;VALUE=URI:https://www.frederictonconventions.ca/en/events/tiac-tourism-
 congress-2026/
DTEND:VALUE=DATE:20261119
DESCRIPTION:More information to follow 
END:VEVENT
END:VCALENDAR
